BEGIN:VCALENDAR
VERSION:2.0
PRODID:-//ReReader//Deadlines 2026 Subscription//EN
CALSCALE:GREGORIAN
X-WR-CALNAME:ReReader Deadlines
X-WR-CALDESC:Deadlines for the Wine Country Real Estate Reader print & digital editions.
X-WR-TIMEZONE:America/Los_Angeles
BEGIN:VTIMEZONE
TZID:America/Los_Angeles
X-LIC-LOCATION:America/Los_Angeles
BEGIN:STANDARD
TZOFFSETFROM:-0700
TZOFFSETTO:-0800
TZNAME:PST
DTSTART:19701101T020000
RRULE:FREQ=YEARLY;BYMONTH=11;BYDAY=1SU
END:STANDARD
BEGIN:DAYLIGHT
TZOFFSETFROM:-0800
TZOFFSETTO:-0700
TZNAME:PDT
DTSTART:19700308T020000
RRULE:FREQ=YEARLY;BYMONTH=3;BYDAY=2SU
END:DAYLIGHT
END:VTIMEZONE
BEGIN:VEVENT
UID:rereader-deadlines-2026-1@subscription
DTSTAMP:20251205T184038Z
SUMMARY:ReReader Magazine Deadline
DTSTART;TZID=America/Los_Angeles:20260112T090000
DTEND;TZID=America/Los_Angeles:20260116T170000
DESCRIPTION:January 2026 Print & Digital Edition\nProperties of Distinction\n\nCall to be featured.\n707-258-6150\n\nLocal events taking place include ZinEX Weekend Classic
URL:https://marketing.rereader.com/calendar
BEGIN:VALARM
ACTION:DISPLAY
DESCRIPTION:ReReader deadline reminder
TRIGGER:-PT0M
END:VALARM
END:VEVENT
BEGIN:VEVENT
UID:rereader-deadlines-2026-2@subscription
DTSTAMP:20251205T184038Z
SUMMARY:ReReader Magazine Deadline
DTSTART;TZID=America/Los_Angeles:20260209T090000
DTEND;TZID=America/Los_Angeles:20260213T170000
DESCRIPTION:February 2026 Print & Digital Edition\nVineyards\, Ranches & Country Estates\n\nCall to be featured.\n707-258-6150\n\nLocal events taking place include Wine Road Events\, Whale Watching in Mendocino
URL:https://marketing.rereader.com/calendar
BEGIN:VALARM
ACTION:DISPLAY
DESCRIPTION:ReReader deadline reminder
TRIGGER:-PT0M
END:VALARM
END:VEVENT
BEGIN:VEVENT
UID:rereader-deadlines-2026-3@subscription
DTSTAMP:20251205T184038Z
SUMMARY:ReReader Magazine Deadline
DTSTART;TZID=America/Los_Angeles:20260309T090000
DTEND;TZID=America/Los_Angeles:20260313T170000
DESCRIPTION:March 2026 Print & Digital Edition\nVineyards\, Ranches & Country Estates\n\nCall to be featured.\n707-258-6150\n\nLocal events taking place include Pigs & Pinot
URL:https://marketing.rereader.com/calendar
BEGIN:VALARM
ACTION:DISPLAY
DESCRIPTION:ReReader deadline reminder
TRIGGER:-PT0M
END:VALARM
END:VEVENT
BEGIN:VEVENT
UID:rereader-deadlines-2026-4@subscription
DTSTAMP:20251205T184038Z
SUMMARY:ReReader Magazine Deadline
DTSTART;TZID=America/Los_Angeles:20260406T090000
DTEND;TZID=America/Los_Angeles:20260410T170000
DESCRIPTION:April 2026 Print & Digital Edition\nFarm\, Ranch & Vineyard Estates\n\nCall to be featured.\n707-258-6150\n\nLocal events taking place include Sonoma Wine Auction
URL:https://marketing.rereader.com/calendar
BEGIN:VALARM
ACTION:DISPLAY
DESCRIPTION:ReReader deadline reminder
TRIGGER:-PT0M
END:VALARM
END:VEVENT
BEGIN:VEVENT
UID:rereader-deadlines-2026-5@subscription
DTSTAMP:20251205T184038Z
SUMMARY:ReReader Magazine Deadline
DTSTART;TZID=America/Los_Angeles:20260511T090000
DTEND;TZID=America/Los_Angeles:20260515T170000
DESCRIPTION:May 2026 Print & Digital Edition\nBetter Homes & Vineyards \n\nCall to be featured.\n707-258-6150\n\nLocal events taking place include Napa Wine Auction\, BottleRock\, Taste of Sonoma in June
URL:https://marketing.rereader.com/calendar
BEGIN:VALARM
ACTION:DISPLAY
DESCRIPTION:ReReader deadline reminder
TRIGGER:-PT0M
END:VALARM
END:VEVENT
BEGIN:VEVENT
UID:rereader-deadlines-2026-6@subscription
DTSTAMP:20251205T184038Z
SUMMARY:ReReader Magazine Deadline
DTSTART;TZID=America/Los_Angeles:20260608T090000
DTEND;TZID=America/Los_Angeles:20260612T170000
DESCRIPTION:June 2026 Print & Digital Edition\nVineyards\, Ranches & Estates\n\nCall to be featured.\n707-258-6150\n\nLocal events taking place include Festival Napa Valley
URL:https://marketing.rereader.com/calendar
BEGIN:VALARM
ACTION:DISPLAY
DESCRIPTION:ReReader deadline reminder
TRIGGER:-PT0M
END:VALARM
END:VEVENT
BEGIN:VEVENT
UID:rereader-deadlines-2026-7@subscription
DTSTAMP:20251205T184038Z
SUMMARY:ReReader Magazine Deadline
DTSTART;TZID=America/Los_Angeles:20260713T090000
DTEND;TZID=America/Los_Angeles:20260717T170000
DESCRIPTION:July 2026 Print & Digital Edition\nFarms\, Ranches & Country Estates\n\nCall to be featured.\n707-258-6150\n\nLocal events taking place include Music in the Vineyards
URL:https://marketing.rereader.com/calendar
BEGIN:VALARM
ACTION:DISPLAY
DESCRIPTION:ReReader deadline reminder
TRIGGER:-PT0M
END:VALARM
END:VEVENT
BEGIN:VEVENT
UID:rereader-deadlines-2026-8@subscription
DTSTAMP:20251205T184038Z
SUMMARY:ReReader Magazine Deadline
DTSTART;TZID=America/Los_Angeles:20260810T090000
DTEND;TZID=America/Los_Angeles:20260814T170000
DESCRIPTION:August 2026 Print & Digital Edition\nBetter Homes & Vineyards\n\nCall to be featured.\n707-258-6150\n\nLocal events taking place include PGA Tour
URL:https://marketing.rereader.com/calendar
BEGIN:VALARM
ACTION:DISPLAY
DESCRIPTION:ReReader deadline reminder
TRIGGER:-PT0M
END:VALARM
END:VEVENT
BEGIN:VEVENT
UID:rereader-deadlines-2026-9@subscription
DTSTAMP:20251205T184038Z
SUMMARY:ReReader Magazine Deadline
DTSTART;TZID=America/Los_Angeles:20260907T090000
DTEND;TZID=America/Los_Angeles:20260911T170000
DESCRIPTION:September 2026 Print & Digital Edition\nEstates\, Vineyards & Ranches\n\nCall to be featured.\n707-258-6150\n\nLocal events taking place include Sonoma Harvest Festival\, BottleRock
URL:https://marketing.rereader.com/calendar
BEGIN:VALARM
ACTION:DISPLAY
DESCRIPTION:ReReader deadline reminder
TRIGGER:-PT0M
END:VALARM
END:VEVENT
BEGIN:VEVENT
UID:rereader-deadlines-2026-10@subscription
DTSTAMP:20251205T184038Z
SUMMARY:ReReader Magazine Deadline
DTSTART;TZID=America/Los_Angeles:20261005T090000
DTEND;TZID=America/Los_Angeles:20261009T170000
DESCRIPTION:October 2026 Print & Digital Edition\nVineyards\, Ranches & Country Estates\n\nCall to be featured.\n707-258-6150\n\nLocal events taking place include Vintage Harvest Festival
URL:https://marketing.rereader.com/calendar
BEGIN:VALARM
ACTION:DISPLAY
DESCRIPTION:ReReader deadline reminder
TRIGGER:-PT0M
END:VALARM
END:VEVENT
BEGIN:VEVENT
UID:rereader-deadlines-2026-11@subscription
DTSTAMP:20251205T184038Z
SUMMARY:ReReader Magazine Deadline
DTSTART;TZID=America/Los_Angeles:20261102T090000
DTEND;TZID=America/Los_Angeles:20261106T170000
DESCRIPTION:November 2026 Print & Digital Edition\nBetter Homes & Vineyards Estates\n\nCall to be featured.\n707-258-6150\n\nLocal events taking place include Thanksgiving and Christmas
URL:https://marketing.rereader.com/calendar
BEGIN:VALARM
ACTION:DISPLAY
DESCRIPTION:ReReader deadline reminder
TRIGGER:-PT0M
END:VALARM
END:VEVENT
BEGIN:VEVENT
UID:rereader-deadlines-2026-12@subscription
DTSTAMP:20251205T184038Z
SUMMARY:ReReader Magazine Deadline
DTSTART;TZID=America/Los_Angeles:20261201T090000
DTEND;TZID=America/Los_Angeles:20261219T170000
DESCRIPTION:2027 Holiday Sale through December\nGet your contract for 2027 up to half off original pricing.\nCall soon 707-258-6150.
URL:https://marketing.rereader.com/calendar
BEGIN:VALARM
ACTION:DISPLAY
DESCRIPTION:ReReader deadline reminder
TRIGGER:-PT0M
END:VALARM
END:VEVENT
END:VCALENDAR
